30.000000
0.000000
0.000000
-30.000000
340010.000000
4073985.000000
